BEGIN:VCALENDAR
VERSION:2.0
PRODID:-//Forestry Golf Society - ECPv6.15.20//NONSGML v1.0//EN
CALSCALE:GREGORIAN
METHOD:PUBLISH
X-WR-CALNAME:Forestry Golf Society
X-ORIGINAL-URL:https://forestry.golf
X-WR-CALDESC:Events for Forestry Golf Society
REFRESH-INTERVAL;VALUE=DURATION:PT1H
X-Robots-Tag:noindex
X-PUBLISHED-TTL:PT1H
BEGIN:VTIMEZONE
TZID:UTC
BEGIN:STANDARD
TZOFFSETFROM:+0000
TZOFFSETTO:+0000
TZNAME:UTC
DTSTART:20250101T000000
END:STANDARD
END:VTIMEZONE
BEGIN:VEVENT
DTSTART;TZID=UTC:20260529T100000
DTEND;TZID=UTC:20260529T170000
DTSTAMP:20260425T130334
CREATED:20260415T084356Z
LAST-MODIFIED:20260415T084356Z
UID:1097-1780048800-1780074000@forestry.golf
SUMMARY:North Scotland - Carrbridge
DESCRIPTION:Our spring outing of the year is at Carrbridge on Friday 29th May\, further details via email.
URL:https://forestry.golf/event/north-scotland-carrbridge/
CATEGORIES:North Scotland
ATTACH;FMTTYPE=image/jpeg:https://forestry.golf/wp-content/uploads/2026/04/carrbridge.jpg
END:VEVENT
END:VCALENDAR